BEGIN:VCALENDAR
VERSION:2.0
PRODID:-//Dallas Academy of Music &amp; Performing Arts - ECPv6.15.20//NONSGML v1.0//EN
CALSCALE:GREGORIAN
METHOD:PUBLISH
X-ORIGINAL-URL:https://dallasacademyofmusic.com
X-WR-CALDESC:Events for Dallas Academy of Music &amp; Performing Arts
REFRESH-INTERVAL;VALUE=DURATION:PT1H
X-Robots-Tag:noindex
X-PUBLISHED-TTL:PT1H
BEGIN:VTIMEZONE
TZID:America/Chicago
BEGIN:DAYLIGHT
TZOFFSETFROM:-0600
TZOFFSETTO:-0500
TZNAME:CDT
DTSTART:20240310T080000
END:DAYLIGHT
BEGIN:STANDARD
TZOFFSETFROM:-0500
TZOFFSETTO:-0600
TZNAME:CST
DTSTART:20241103T070000
END:STANDARD
BEGIN:DAYLIGHT
TZOFFSETFROM:-0600
TZOFFSETTO:-0500
TZNAME:CDT
DTSTART:20250309T080000
END:DAYLIGHT
BEGIN:STANDARD
TZOFFSETFROM:-0500
TZOFFSETTO:-0600
TZNAME:CST
DTSTART:20251102T070000
END:STANDARD
BEGIN:DAYLIGHT
TZOFFSETFROM:-0600
TZOFFSETTO:-0500
TZNAME:CDT
DTSTART:20260308T080000
END:DAYLIGHT
BEGIN:STANDARD
TZOFFSETFROM:-0500
TZOFFSETTO:-0600
TZNAME:CST
DTSTART:20261101T070000
END:STANDARD
END:VTIMEZONE
BEGIN:VEVENT
DTSTART;VALUE=DATE:20250609
DTEND;VALUE=DATE:20250623
DTSTAMP:20260420T232018
CREATED:20250428T210251Z
LAST-MODIFIED:20250428T210251Z
UID:16938-1749427200-1750636799@dallasacademyofmusic.com
SUMMARY:Summer Musical: The 25th Annual Putnam County Spelling Bee
DESCRIPTION:Our two week intensive summer musical! Students will spend two weeks learning\, rehearsing\, and then performing the hit broadway comedy musical The 25th Annual Putnam County Spelling Bee. \nVideo auditions due Friday\, May 2nd! Audition form available here: https://forms.gle/njgRnZ6kZ7jKycAs6 \nDetails: \n\nJune 9th-22nd (no rehearsals on June 14 or 15)\n10:00am-3:00pm\nShows June 20\, 21\, and 22\nAges 13+\nVenue: Artstillery (723 Fort Worth Ave\, Dallas\, TX 75208)\nTeachers: Lexie Pritchard and Lynn Ambrose\nAudition form deadline: May 2nd\nTuition: $599\n\nProduction description: An eclectic group of six mid-pubescents vie for the spelling championship of a lifetime. While candidly disclosing hilarious and touching stories from their home lives\, the tweens spell their way through a series of (potentially made-up) words\, hoping never to hear the soul-crushing\, pout-inducing\, life un-affirming “ding” of the bell that signals a spelling mistake. Six spellers enter; one speller leaves a champion! At least the losers get a juice box. A riotous ride\, complete with audience participation\, The 25th Annual Putnam County Spelling Bee is a delightful den of comedic genius! \nMore information available here: https://dallasacademyofmusic.com/spelling-bee
URL:https://dallasacademyofmusic.com/event/summer-musical-the-25th-annual-putnam-county-spelling-bee/
LOCATION:Dallas Academy of Music and Performing Arts\, 3415 Milton Ave A\, Dallas\, TX\, 75205\, United States
CATEGORIES:Musical Theatre Production,Summer Camp
END:VEVENT
END:VCALENDAR