BEGIN:VCALENDAR
VERSION:2.0
PRODID:-//Dallas Academy of Music &amp; Performing Arts - ECPv6.15.20//NONSGML v1.0//EN
CALSCALE:GREGORIAN
METHOD:PUBLISH
X-WR-CALNAME:Dallas Academy of Music &amp; Performing Arts
X-ORIGINAL-URL:https://dallasacademyofmusic.com
X-WR-CALDESC:Events for Dallas Academy of Music &amp; Performing Arts
REFRESH-INTERVAL;VALUE=DURATION:PT1H
X-Robots-Tag:noindex
X-PUBLISHED-TTL:PT1H
BEGIN:VTIMEZONE
TZID:America/Chicago
BEGIN:DAYLIGHT
TZOFFSETFROM:-0600
TZOFFSETTO:-0500
TZNAME:CDT
DTSTART:20240310T080000
END:DAYLIGHT
BEGIN:STANDARD
TZOFFSETFROM:-0500
TZOFFSETTO:-0600
TZNAME:CST
DTSTART:20241103T070000
END:STANDARD
BEGIN:DAYLIGHT
TZOFFSETFROM:-0600
TZOFFSETTO:-0500
TZNAME:CDT
DTSTART:20250309T080000
END:DAYLIGHT
BEGIN:STANDARD
TZOFFSETFROM:-0500
TZOFFSETTO:-0600
TZNAME:CST
DTSTART:20251102T070000
END:STANDARD
BEGIN:DAYLIGHT
TZOFFSETFROM:-0600
TZOFFSETTO:-0500
TZNAME:CDT
DTSTART:20260308T080000
END:DAYLIGHT
BEGIN:STANDARD
TZOFFSETFROM:-0500
TZOFFSETTO:-0600
TZNAME:CST
DTSTART:20261101T070000
END:STANDARD
END:VTIMEZONE
BEGIN:VEVENT
DTSTART;VALUE=DATE:20250208
DTEND;VALUE=DATE:20250213
DTSTAMP:20260421T035204
CREATED:20250131T005028Z
LAST-MODIFIED:20250131T005028Z
UID:16651-1738972800-1739404799@dallasacademyofmusic.com
SUMMARY:Beetlejuice Jr. Tech Week
DESCRIPTION:Tech week for students\, teachers\, and staff participating in DAMPA’s musical theatre production of Beetlejuice Jr! \nDates: February 8 & 9 from 12pm-5pm\, February 10-12 from 5pm-9pm \nLocation: Artstillery\, 723 Fort Worth Ave\, Dallas\, TX 75208
URL:https://dallasacademyofmusic.com/event/beetlejuice-jr-tech-week/
LOCATION:Artstillery\, 723 Fort Worth Ave\, Dallas\, Texas\, 75208
CATEGORIES:Musical Theatre Production
END:VEVENT
BEGIN:VEVENT
DTSTART;VALUE=DATE:20250213
DTEND;VALUE=DATE:20250217
DTSTAMP:20260421T035204
CREATED:20250131T004222Z
LAST-MODIFIED:20250131T004222Z
UID:16649-1739404800-1739750399@dallasacademyofmusic.com
SUMMARY:Beetlejuice Jr. Production
DESCRIPTION:Dallas Academy of Music and Performing Arts\, in collaboration with Emerge Coalition\, proudly presents Beetlejuice Jr.! \nGet ready for a wild\, wacky\, and spooky ride as the talented students of DAMPA present Beetlejuice Jr. The Musical! This fun-filled\, high-energy production brings the quirky and mischievous spirit of Beetlejuice to life\, with plenty of laughs\, music\, and unexpected surprises. Our students have been hard at work preparing for this show\, showcasing their amazing skills in acting\, singing\, and dancing. It’s the perfect night out for families\, fans of the classic film\, or anyone looking for a fun\, unforgettable theatrical experience. Join us for a hilarious\, haunted adventure you won’t want to miss! \nDates: February 13-15\, 2025 at 7:00pm | February 16\, 2025 at 2:00pm \nTicket Link: Here \nLocation: Artstillery – 723 Fort Worth Ave\, Dallas\, TX 75208
URL:https://dallasacademyofmusic.com/event/beetlejuice-jr-production/
LOCATION:Artstillery\, 723 Fort Worth Ave\, Dallas\, Texas\, 75208
CATEGORIES:Musical Theatre Production
END:VEVENT
END:VCALENDAR