BEGIN:VCALENDAR
VERSION:2.0
PRODID:-//Dallas Academy of Music &amp; Performing Arts - ECPv6.15.20//NONSGML v1.0//EN
CALSCALE:GREGORIAN
METHOD:PUBLISH
X-ORIGINAL-URL:https://dallasacademyofmusic.com
X-WR-CALDESC:Events for Dallas Academy of Music &amp; Performing Arts
REFRESH-INTERVAL;VALUE=DURATION:PT1H
X-Robots-Tag:noindex
X-PUBLISHED-TTL:PT1H
BEGIN:VTIMEZONE
TZID:America/Chicago
BEGIN:DAYLIGHT
TZOFFSETFROM:-0600
TZOFFSETTO:-0500
TZNAME:CDT
DTSTART:20240310T080000
END:DAYLIGHT
BEGIN:STANDARD
TZOFFSETFROM:-0500
TZOFFSETTO:-0600
TZNAME:CST
DTSTART:20241103T070000
END:STANDARD
BEGIN:DAYLIGHT
TZOFFSETFROM:-0600
TZOFFSETTO:-0500
TZNAME:CDT
DTSTART:20250309T080000
END:DAYLIGHT
BEGIN:STANDARD
TZOFFSETFROM:-0500
TZOFFSETTO:-0600
TZNAME:CST
DTSTART:20251102T070000
END:STANDARD
BEGIN:DAYLIGHT
TZOFFSETFROM:-0600
TZOFFSETTO:-0500
TZNAME:CDT
DTSTART:20260308T080000
END:DAYLIGHT
BEGIN:STANDARD
TZOFFSETFROM:-0500
TZOFFSETTO:-0600
TZNAME:CST
DTSTART:20261101T070000
END:STANDARD
END:VTIMEZONE
BEGIN:VEVENT
DTSTART;TZID=America/Chicago:20250504T120000
DTEND;TZID=America/Chicago:20250504T170000
DTSTAMP:20260421T190952
CREATED:20250106T200208Z
LAST-MODIFIED:20250401T194614Z
UID:16584-1746360000-1746378000@dallasacademyofmusic.com
SUMMARY:DAMPA Spring Recital 2025
DESCRIPTION:We are SO excited to see all of our amazing students perform in person for this years Spring Recital\, taking place at the beautiful Four Day Weekend Theater! \nRegister to participate in this year’s Spring Recital here: https://forms.gle/7712MXiyn4kuNv7x9 \nEvent Information:\nDate: Sunday\, May 4th\, 2025\n12:00pm – 5:00pm*\nLocation: 5601 Sears St\, Dallas\, TX 75206\n\nIf you have not been to Four Day Weekend theatre yet\, you are in for a treat! With a gorgeous art deco design\, a wrap around balcony\, 150+ seats\, a full bar\, and a grand piano\, we are thrilled to have our students perform here!\nNote* Family and friends are welcome to come and view for free! There is a $50 per performing student fee.\nWe are looking forward to hearing all our awesome students perform and celebrating the holidays with our DAMPA family!\n\n*Estimated end time
URL:https://dallasacademyofmusic.com/event/dampa-spring-recital-2025/
LOCATION:Four Day Weekend Theatre\, 5601 Sears St\, Dallas\, TX\, 75206\, United States
CATEGORIES:Recital
END:VEVENT
BEGIN:VEVENT
DTSTART;VALUE=DATE:20250526
DTEND;VALUE=DATE:20250527
DTSTAMP:20260421T190952
CREATED:20250106T212748Z
LAST-MODIFIED:20250106T212748Z
UID:16597-1748217600-1748303999@dallasacademyofmusic.com
SUMMARY:Closed for Memorial Day
DESCRIPTION:DAMPA will be closed on Monday\, May 26th for Memorial Day. No lessons will take place on this day. Lessons will resume as normal on Monday\, May 27th. If you have any questions\, please call us at 833-281-2690!
URL:https://dallasacademyofmusic.com/event/closed-for-memorial-day-4/
LOCATION:Dallas Academy of Music and Performing Arts\, 3415 Milton Ave A\, Dallas\, TX\, 75205\, United States
CATEGORIES:School Closure
END:VEVENT
END:VCALENDAR