BEGIN:VCALENDAR
VERSION:2.0
PRODID:-//Dallas Academy of Music &amp; Performing Arts - ECPv6.15.20//NONSGML v1.0//EN
CALSCALE:GREGORIAN
METHOD:PUBLISH
X-ORIGINAL-URL:https://dallasacademyofmusic.com
X-WR-CALDESC:Events for Dallas Academy of Music &amp; Performing Arts
REFRESH-INTERVAL;VALUE=DURATION:PT1H
X-Robots-Tag:noindex
X-PUBLISHED-TTL:PT1H
BEGIN:VTIMEZONE
TZID:America/Chicago
BEGIN:DAYLIGHT
TZOFFSETFROM:-0600
TZOFFSETTO:-0500
TZNAME:CDT
DTSTART:20230312T080000
END:DAYLIGHT
BEGIN:STANDARD
TZOFFSETFROM:-0500
TZOFFSETTO:-0600
TZNAME:CST
DTSTART:20231105T070000
END:STANDARD
BEGIN:DAYLIGHT
TZOFFSETFROM:-0600
TZOFFSETTO:-0500
TZNAME:CDT
DTSTART:20240310T080000
END:DAYLIGHT
BEGIN:STANDARD
TZOFFSETFROM:-0500
TZOFFSETTO:-0600
TZNAME:CST
DTSTART:20241103T070000
END:STANDARD
BEGIN:DAYLIGHT
TZOFFSETFROM:-0600
TZOFFSETTO:-0500
TZNAME:CDT
DTSTART:20250309T080000
END:DAYLIGHT
BEGIN:STANDARD
TZOFFSETFROM:-0500
TZOFFSETTO:-0600
TZNAME:CST
DTSTART:20251102T070000
END:STANDARD
BEGIN:DAYLIGHT
TZOFFSETFROM:-0600
TZOFFSETTO:-0500
TZNAME:CDT
DTSTART:20260308T080000
END:DAYLIGHT
BEGIN:STANDARD
TZOFFSETFROM:-0500
TZOFFSETTO:-0600
TZNAME:CST
DTSTART:20261101T070000
END:STANDARD
END:VTIMEZONE
BEGIN:VEVENT
DTSTART;TZID=America/Chicago:20241208T120000
DTEND;TZID=America/Chicago:20241208T160000
DTSTAMP:20260422T053903
CREATED:20240513T181525Z
LAST-MODIFIED:20240513T181525Z
UID:11130-1733659200-1733673600@dallasacademyofmusic.com
SUMMARY:Winter Recital
DESCRIPTION:Join us for DAMPA’s 2024 Winter Recital at the beautiful Four Day Weekend Theatre!
URL:https://dallasacademyofmusic.com/event/winter-recital/
LOCATION:Four Day Weekend Theatre\, 5601 Sears St\, Dallas\, TX\, 75206\, United States
END:VEVENT
BEGIN:VEVENT
DTSTART;TZID=America/Chicago:20241214T160000
DTEND;TZID=America/Chicago:20241214T180000
DTSTAMP:20260422T053903
CREATED:20241111T205608Z
LAST-MODIFIED:20241120T181318Z
UID:16234-1734192000-1734199200@dallasacademyofmusic.com
SUMMARY:A Ghoul's Night Out: Fundraiser for Beetlejuice Jr!
DESCRIPTION:Join us for thrills\, chills\, and to raise funds for Beetlejuice Jr.! Help us make a production to die for—if you dare! #ItsShowtime \nSaturday\, December 14th from 4:00pm–6:00pm. Doors at 3:30pm. \nArtstillery \n723 Fort Worth Ave\, Dallas\, TX 75208 \nQuestions? Call us at 833-281-2690!
URL:https://dallasacademyofmusic.com/event/a-ghouls-night-out-fundraiser-for-beetlejuice-jr/
LOCATION:Artstillery\, 723 Fort Worth Ave\, Dallas\, Texas\, 75208
CATEGORIES:Musical Theatre Production
END:VEVENT
BEGIN:VEVENT
DTSTART;VALUE=DATE:20241223
DTEND;VALUE=DATE:20250104
DTSTAMP:20260422T053903
CREATED:20240430T212614Z
LAST-MODIFIED:20240430T212614Z
UID:9618-1734912000-1735948799@dallasacademyofmusic.com
SUMMARY:Winter Break
DESCRIPTION:DAMPA will be closed December 23rd – January 3rd for Winter Break. No lessons will take place during this time. Lessons will resume as normal on January 4th. If you have any questions\, please call us at 833-281-2690!
URL:https://dallasacademyofmusic.com/event/winter-break-2/
LOCATION:TX
CATEGORIES:School Closure
END:VEVENT
END:VCALENDAR