BEGIN:VCALENDAR
VERSION:2.0
PRODID:-//Dallas Academy of Music &amp; Performing Arts - ECPv6.15.20//NONSGML v1.0//EN
CALSCALE:GREGORIAN
METHOD:PUBLISH
X-ORIGINAL-URL:https://dallasacademyofmusic.com
X-WR-CALDESC:Events for Dallas Academy of Music &amp; Performing Arts
REFRESH-INTERVAL;VALUE=DURATION:PT1H
X-Robots-Tag:noindex
X-PUBLISHED-TTL:PT1H
BEGIN:VTIMEZONE
TZID:America/Chicago
BEGIN:DAYLIGHT
TZOFFSETFROM:-0600
TZOFFSETTO:-0500
TZNAME:CDT
DTSTART:20230312T080000
END:DAYLIGHT
BEGIN:STANDARD
TZOFFSETFROM:-0500
TZOFFSETTO:-0600
TZNAME:CST
DTSTART:20231105T070000
END:STANDARD
BEGIN:DAYLIGHT
TZOFFSETFROM:-0600
TZOFFSETTO:-0500
TZNAME:CDT
DTSTART:20240310T080000
END:DAYLIGHT
BEGIN:STANDARD
TZOFFSETFROM:-0500
TZOFFSETTO:-0600
TZNAME:CST
DTSTART:20241103T070000
END:STANDARD
BEGIN:DAYLIGHT
TZOFFSETFROM:-0600
TZOFFSETTO:-0500
TZNAME:CDT
DTSTART:20250309T080000
END:DAYLIGHT
BEGIN:STANDARD
TZOFFSETFROM:-0500
TZOFFSETTO:-0600
TZNAME:CST
DTSTART:20251102T070000
END:STANDARD
END:VTIMEZONE
BEGIN:VEVENT
DTSTART;VALUE=DATE:20241006
DTEND;VALUE=DATE:20241007
DTSTAMP:20260422T103911
CREATED:20240916T190556Z
LAST-MODIFIED:20240916T190556Z
UID:16016-1728172800-1728259199@dallasacademyofmusic.com
SUMMARY:Beetlejuice Jr. Video Audition Submission Deadline
DESCRIPTION:Complete the Beetlejuice Jr. registration form and submit your video audition here by October 6th! If you have any trouble or questions about this process\, please do not hesitate to reach out to us at 833-281-2690 or email makemusic@dallasacademyofmusic.com. \nCallbacks will be in-person at DAMPA on October 14th.
URL:https://dallasacademyofmusic.com/event/beetlejuice-jr-video-audition-submission-deadline/
LOCATION:Dallas Academy of Music and Performing Arts\, 3415 Milton Ave A\, Dallas\, TX\, 75205\, United States
CATEGORIES:Musical Theatre Production
END:VEVENT
BEGIN:VEVENT
DTSTART;TZID=America/Chicago:20241011T183000
DTEND;TZID=America/Chicago:20241011T203000
DTSTAMP:20260422T103911
CREATED:20240904T182242Z
LAST-MODIFIED:20240904T182336Z
UID:15931-1728671400-1728678600@dallasacademyofmusic.com
SUMMARY:Live Performance Masterclass with Hallie Ballou of Idyllwild Arts Academy
DESCRIPTION:This FREE masterclass with Hallie Ballou is an excellent opportunity for students to enhance their performance skills through live professional feedback! Students will perform on-site\, and receive feedback from Hallie on the spot. We highly encourage students who will be participating in the October 12th showcase to attend and get feedback for their performance!\n\n Friday\, October 11th 6:30pm – 8:30pm Dallas Academy of Music and Performing Arts 3415 Milton Ave\, Dallas TX 75205\n\nAbout Hallie Ballou \nHallie Ballou is a proud alumni of the Idyllwild Arts Academy – Music Department\, class of 2010. She furthered her education at Texas A&M University\, earning a BA in Organizational Leadership. Throughout her career\, Hallie has committed herself to meaningful endeavors with non-profit organizations\, focusing on empowering the younger generations. An active professional songwriter and performer\, Hallie also enjoys exploring international cuisine\, watching live music and travel. Currently residing in Idyllwild\, CA with her family\, Hallie is grateful for the opportunity to give back to the community at Idyllwild Arts Academy\, which played a pivotal role in her early development\, by welcoming the next generation of young artists.\n\nAbout Idyllwild Arts Academy \nIdyllwild Arts Academy is the premier\, internationally-acclaimed residential arts high school\, ranked by Niche as the Best Private High School for the Arts in America two years in a row. With a unique blend of college-preparatory academics and pre-professional art courses\, students develop into thoughtful Citizen Artists fully prepared to make an impact in the world. The Academy is global by design\, with almost 50% of the student body hailing from more than 30 different countries. Whether domestic or international\, our students are united by their passion for artistic excellence and thrive in our welcoming\, inviting\, and supportive community. Our stunning campus is nestled within 205 acres of pristine national forest\, an enchanting backdrop of natural beauty that ignites creativity.\n\nMusicians at Idyllwild Arts receive the requisite preparation to establish a career\, excel in their craft\, and become artistic leaders in the industry. By studying a comprehensive curriculum of music theory\, history\, and technology coupled with private lessons and ensembles\, our students build a strong foundation\, find their own unique style\, and achieve professional excellence in Classical\, Jazz\, Songwriting\, and/or Voice studies.\n\nQuestions about the Live Performance Masterclass? \nCall DAMPA: 833-281-2690Text DAMPA: 214-965-8324Email: makemusic@dallasacademyofmusic.com\nFacebook event page
URL:https://dallasacademyofmusic.com/event/live-performance-masterclass-with-hallie-ballou-of-idyllwild-arts-academy/
LOCATION:Dallas Academy of Music and Performing Arts\, 3415 Milton Ave A\, Dallas\, TX\, 75205\, United States
CATEGORIES:Masterclass
END:VEVENT
BEGIN:VEVENT
DTSTART;TZID=America/Chicago:20241012T130000
DTEND;TZID=America/Chicago:20241012T150000
DTSTAMP:20260422T103911
CREATED:20240826T204951Z
LAST-MODIFIED:20240826T205056Z
UID:15784-1728738000-1728745200@dallasacademyofmusic.com
SUMMARY:Student Showcase at Opening Bell Coffee
DESCRIPTION:DAMPA invites you to join us for our student showcase at Opening Bell Coffee! It will take place Saturday\, October 12th\, from 1:00pm – 3:00pm. Come enjoy live music and support our talented students!
URL:https://dallasacademyofmusic.com/event/student-showcase-at-opening-bell-coffee-4/
LOCATION:Opening Bell Coffee\, 1409 Botham Jean Blvd\, Dallas\, TX\, 75215\, United States
CATEGORIES:Student Showcase
END:VEVENT
BEGIN:VEVENT
DTSTART;TZID=America/Chicago:20241014T180000
DTEND;TZID=America/Chicago:20241014T193000
DTSTAMP:20260422T103911
CREATED:20240916T190935Z
LAST-MODIFIED:20240916T190935Z
UID:16018-1728928800-1728934200@dallasacademyofmusic.com
SUMMARY:Beetlejuice Jr. Callbacks
DESCRIPTION:Callbacks for Beetlejuice Jr. will be in-person at DAMPA at 6:00pm on October 14\, 2024. We are located at 3415 Milton Ave\, Dallas\, TX. If you have any questions\, please feel free to reach out to us at 833-281-2690 or email makemusic@dallasacademyofmusic.com.
URL:https://dallasacademyofmusic.com/event/beetlejuice-jr-callbacks/
LOCATION:Dallas Academy of Music and Performing Arts\, 3415 Milton Ave A\, Dallas\, TX\, 75205\, United States
CATEGORIES:Musical Theatre Production
END:VEVENT
END:VCALENDAR