BEGIN:VCALENDAR
VERSION:2.0
PRODID:-//Dallas Academy of Music &amp; Performing Arts - ECPv6.15.20//NONSGML v1.0//EN
CALSCALE:GREGORIAN
METHOD:PUBLISH
X-WR-CALNAME:Dallas Academy of Music &amp; Performing Arts
X-ORIGINAL-URL:https://dallasacademyofmusic.com
X-WR-CALDESC:Events for Dallas Academy of Music &amp; Performing Arts
REFRESH-INTERVAL;VALUE=DURATION:PT1H
X-Robots-Tag:noindex
X-PUBLISHED-TTL:PT1H
BEGIN:VTIMEZONE
TZID:America/Chicago
BEGIN:DAYLIGHT
TZOFFSETFROM:-0600
TZOFFSETTO:-0500
TZNAME:CDT
DTSTART:20230312T080000
END:DAYLIGHT
BEGIN:STANDARD
TZOFFSETFROM:-0500
TZOFFSETTO:-0600
TZNAME:CST
DTSTART:20231105T070000
END:STANDARD
BEGIN:DAYLIGHT
TZOFFSETFROM:-0600
TZOFFSETTO:-0500
TZNAME:CDT
DTSTART:20240310T080000
END:DAYLIGHT
BEGIN:STANDARD
TZOFFSETFROM:-0500
TZOFFSETTO:-0600
TZNAME:CST
DTSTART:20241103T070000
END:STANDARD
BEGIN:DAYLIGHT
TZOFFSETFROM:-0600
TZOFFSETTO:-0500
TZNAME:CDT
DTSTART:20250309T080000
END:DAYLIGHT
BEGIN:STANDARD
TZOFFSETFROM:-0500
TZOFFSETTO:-0600
TZNAME:CST
DTSTART:20251102T070000
END:STANDARD
END:VTIMEZONE
BEGIN:VEVENT
DTSTART;VALUE=DATE:20240902
DTEND;VALUE=DATE:20240903
DTSTAMP:20260422T120641
CREATED:20240430T212134Z
LAST-MODIFIED:20240430T212157Z
UID:9614-1725235200-1725321599@dallasacademyofmusic.com
SUMMARY:Closed for Labor Day
DESCRIPTION:DAMPA will be closed on Monday\, September 2nd for Labor Day. No lessons will take place on this day. Lessons will resume as normal on Tuesday\, September 3rd. If you have any questions\, please call us at 833-281-2690!
URL:https://dallasacademyofmusic.com/event/closed-for-labor-day-2/
LOCATION:TX
CATEGORIES:School Closure
END:VEVENT
BEGIN:VEVENT
DTSTART;TZID=America/Chicago:20240922T120000
DTEND;TZID=America/Chicago:20240922T140000
DTSTAMP:20260422T120641
CREATED:20240813T130728Z
LAST-MODIFIED:20240813T130728Z
UID:15745-1727006400-1727013600@dallasacademyofmusic.com
SUMMARY:Encore Performance: Women's Voices in Musical Theatre
DESCRIPTION:DAMPA presents Encore – The Unplugged Series: Women’s Voices in Musical Theatre\nSunday\, September 22nd from 12-2 pm\nOpening Bell Coffee: 1409 Botham Jean Blvd\, Dallas\, TX 75215\n\nJoin us in presenting our new\, groundbreaking community theatre ensemble featuring songs from theatre shows that highlight the power of the female voice! Songs will come from shows like Six\, Wicked\, Mean Girls and more!
URL:https://dallasacademyofmusic.com/event/encore-performance-womens-voices-in-musical-theatre/
LOCATION:Opening Bell Coffee\, 1409 Botham Jean Blvd\, Dallas\, TX\, 75215\, United States
CATEGORIES:Encore Performance
END:VEVENT
END:VCALENDAR