BEGIN:VCALENDAR
VERSION:2.0
PRODID:-//Dallas Academy of Music &amp; Performing Arts - ECPv6.15.20//NONSGML v1.0//EN
CALSCALE:GREGORIAN
METHOD:PUBLISH
X-WR-CALNAME:Dallas Academy of Music &amp; Performing Arts
X-ORIGINAL-URL:https://dallasacademyofmusic.com
X-WR-CALDESC:Events for Dallas Academy of Music &amp; Performing Arts
REFRESH-INTERVAL;VALUE=DURATION:PT1H
X-Robots-Tag:noindex
X-PUBLISHED-TTL:PT1H
BEGIN:VTIMEZONE
TZID:America/Chicago
BEGIN:DAYLIGHT
TZOFFSETFROM:-0600
TZOFFSETTO:-0500
TZNAME:CDT
DTSTART:20200308T080000
END:DAYLIGHT
BEGIN:STANDARD
TZOFFSETFROM:-0500
TZOFFSETTO:-0600
TZNAME:CST
DTSTART:20201101T070000
END:STANDARD
BEGIN:DAYLIGHT
TZOFFSETFROM:-0600
TZOFFSETTO:-0500
TZNAME:CDT
DTSTART:20210314T080000
END:DAYLIGHT
BEGIN:STANDARD
TZOFFSETFROM:-0500
TZOFFSETTO:-0600
TZNAME:CST
DTSTART:20211107T070000
END:STANDARD
BEGIN:DAYLIGHT
TZOFFSETFROM:-0600
TZOFFSETTO:-0500
TZNAME:CDT
DTSTART:20220313T080000
END:DAYLIGHT
BEGIN:STANDARD
TZOFFSETFROM:-0500
TZOFFSETTO:-0600
TZNAME:CST
DTSTART:20221106T070000
END:STANDARD
END:VTIMEZONE
BEGIN:VEVENT
DTSTART;VALUE=DATE:20210701
DTEND;VALUE=DATE:20210706
DTSTAMP:20260421T151405
CREATED:20210527T190948Z
LAST-MODIFIED:20210527T190948Z
UID:5909-1625097600-1625529599@dallasacademyofmusic.com
SUMMARY:Independence Day Closure
DESCRIPTION:DAMPA will be closed Thursday\, July 1st through Monday\, July 5th to honor Independence Day. No lessons will take place (neither on-site nor online). Lessons will resume as normal on Tuesday\, July 6th.
URL:https://dallasacademyofmusic.com/event/independence-day-closure/
LOCATION:TX
END:VEVENT
BEGIN:VEVENT
DTSTART;VALUE=DATE:20210621
DTEND;VALUE=DATE:20210626
DTSTAMP:20260421T151405
CREATED:20210428T160600Z
LAST-MODIFIED:20210428T163421Z
UID:5724-1624233600-1624665599@dallasacademyofmusic.com
SUMMARY:Voice for Musical Theatre Camp
DESCRIPTION:11:30am – 2:30pm \nAges 10+ \nIf your child loves acting & singing\, then this camp is the perfect fit! Campers will study professional vocal techniques\, theory\, repertoire\, and more! \nDetails and registration here: https://dallasacademyofmusic.com/voice-for-musical-theatre-camp-weeks/
URL:https://dallasacademyofmusic.com/event/voice-for-musical-theatre-camp/
LOCATION:TX
ATTACH;FMTTYPE=image/png:https://dallasacademyofmusic.com/wp-content/uploads/2021/04/Voice-for-Musical-Theatre-Cover-Image.png
END:VEVENT
BEGIN:VEVENT
DTSTART;VALUE=DATE:20210621
DTEND;VALUE=DATE:20210626
DTSTAMP:20260421T151405
CREATED:20210428T160149Z
LAST-MODIFIED:20210428T160149Z
UID:5722-1624233600-1624665599@dallasacademyofmusic.com
SUMMARY:Beginner Guitar Camp
DESCRIPTION:11:00am – 2:00pm \nAges 8+ \nBecome a guitar player this summer! Learn basic guitar playing technique\, how to build chords\, how to play the guitar as an accompaniment instrument\, classical guitar basics\, and so much more! \nDetails here: https://dallasacademyofmusic.com/beginner-guitar-camp-weeks/
URL:https://dallasacademyofmusic.com/event/beginner-guitar-camp/
LOCATION:TX
ATTACH;FMTTYPE=image/png:https://dallasacademyofmusic.com/wp-content/uploads/2021/04/Beginner-Guitar-Cover-Image.png
END:VEVENT
BEGIN:VEVENT
DTSTART;VALUE=DATE:20210621
DTEND;VALUE=DATE:20210626
DTSTAMP:20260421T151405
CREATED:20210428T155614Z
LAST-MODIFIED:20210428T155614Z
UID:5720-1624233600-1624665599@dallasacademyofmusic.com
SUMMARY:Bach Rocks! Beginner Piano Camp
DESCRIPTION:10:30am – 1:30pm \nAges 6+ \nA fun-filled\, 5 day camp giving your child the skills they need to begin their journey studying music! Campers will learn fundamental skills such as how to read & listen to music\, proper playing technique\, and much more! \nDetails here: https://dallasacademyofmusic.com/bach-rocks-beginner-piano-camp-weeks/
URL:https://dallasacademyofmusic.com/event/bach-rocks-beginner-piano-camp/
LOCATION:TX
ATTACH;FMTTYPE=image/png:https://dallasacademyofmusic.com/wp-content/uploads/2021/04/bach-rocks-cover-yellow.png
END:VEVENT
BEGIN:VEVENT
DTSTART;VALUE=DATE:20210621
DTEND;VALUE=DATE:20210626
DTSTAMP:20260421T151405
CREATED:20210428T141545Z
LAST-MODIFIED:20210428T141545Z
UID:5713-1624233600-1624665599@dallasacademyofmusic.com
SUMMARY:Pop Vocal Boot Camp
DESCRIPTION:10:00am – 1:00pm \nAges 8+ \nHave you ever wanted to learn how to belt? Do you feel your voice could be stronger? Learn the foundations of belting & diaphragmatic support with this fun new pop vocal boot camp! \nDetails and registration here: https://dallasacademyofmusic.com/pop-vocal-boot-camp-weeks/
URL:https://dallasacademyofmusic.com/event/pop-vocal-boot-camp/
LOCATION:TX
ATTACH;FMTTYPE=image/png:https://dallasacademyofmusic.com/wp-content/uploads/2021/04/pop-vocal-boot-camp-cover-pink.png
END:VEVENT
BEGIN:VEVENT
DTSTART;VALUE=DATE:20210607
DTEND;VALUE=DATE:20210612
DTSTAMP:20260421T151405
CREATED:20210428T140925Z
LAST-MODIFIED:20210428T155434Z
UID:5710-1623024000-1623455999@dallasacademyofmusic.com
SUMMARY:Songwriting Camp
DESCRIPTION:11:00am – 2:00pm \nAges 8+ \nLearn the fascinating basics of song structure\, lyric writing\, composition\, melody\, and rhythm in this new songwriting camp! \nDetails here: https://dallasacademyofmusic.com/songwriting-camp-weeks/
URL:https://dallasacademyofmusic.com/event/songwriting-camp-week-1/
LOCATION:TX
ATTACH;FMTTYPE=image/png:https://dallasacademyofmusic.com/wp-content/uploads/2021/04/Songwriting-Camp-Cover-Image-1.png
END:VEVENT
BEGIN:VEVENT
DTSTART;VALUE=DATE:20210607
DTEND;VALUE=DATE:20210612
DTSTAMP:20260421T151405
CREATED:20210428T135749Z
LAST-MODIFIED:20210428T142012Z
UID:5708-1623024000-1623455999@dallasacademyofmusic.com
SUMMARY:Bach Rocks! Beginner Piano Camp
DESCRIPTION:10:30am – 1:30pm \nAges 6+ \nA fun-filled\, 5 day camp giving your child the skills they need to begin their journey studying music! Campers will learn fundamental skills such as how to read & listen to music\, proper playing technique\, and much more! \nDetails here: https://dallasacademyofmusic.com/bach-rocks-beginner-piano-camp-weeks/
URL:https://dallasacademyofmusic.com/event/bach-rocks-beginner-piano-camp-week-1/
LOCATION:TX
ATTACH;FMTTYPE=image/png:https://dallasacademyofmusic.com/wp-content/uploads/2021/04/bach-rocks-cover-yellow.png
END:VEVENT
BEGIN:VEVENT
DTSTART;VALUE=DATE:20210607
DTEND;VALUE=DATE:20210612
DTSTAMP:20260421T151405
CREATED:20210428T125627Z
LAST-MODIFIED:20210428T141750Z
UID:5701-1623024000-1623455999@dallasacademyofmusic.com
SUMMARY:A Cappella Boot Camp
DESCRIPTION:10:00am – 1:00pm \nAges 10+ \nDo you love Pitch Perfect\, Pentatonix\, or The Sing Off? Are you fascinated by harmony vocals\, beatboxing\, or making music with no instruments? Come check out the new A Cappella Boot Camp with Lexie Pritchard! \nDetails here: https://dallasacademyofmusic.com/a-cappella-boot-camp-weeks/
URL:https://dallasacademyofmusic.com/event/a-cappella-boot-camp-week-1/
LOCATION:TX
ATTACH;FMTTYPE=image/png:https://dallasacademyofmusic.com/wp-content/uploads/2021/04/A-Cappella-Boot-Camp-Cover-Image2-1.png
END:VEVENT
BEGIN:VEVENT
DTSTART;TZID=America/Chicago:20210605T160000
DTEND;TZID=America/Chicago:20210605T200000
DTSTAMP:20260421T151405
CREATED:20210428T134634Z
LAST-MODIFIED:20210428T134711Z
UID:5705-1622908800-1622923200@dallasacademyofmusic.com
SUMMARY:Spring / Summer Virtual Recital 2021!
DESCRIPTION:Hosted LIVE on our Facebook page at 4:00pm here: https://www.facebook.com/DallasAMPA \nJoin us in celebrating the hard work\, dedication\, and growth of our students with DAMPA’s 2021 Spring/Summer Recital! Stream the recital LIVE with your friends and family on June 5 at 4:00pm CT! \nThank you all for your continued support through these challenging times! Keeping our students\, teachers\, and staff progressing in their musical education\, all while remaining safe & healthy is our number one priority! We hope that with the continued progress we aim to be back to onsite recitals by Fall 2021! \nStudents: Submissions for the recital are due Sunday\, May 23rd. Submit your recital pieces to our Dropbox folder here: https://www.dropbox.com/sh/wb6toc5xxzwitgv/AABLUXrQci27jutNkonrO_y6a?dl=0
URL:https://dallasacademyofmusic.com/event/spring-summer-virtual-recital/
LOCATION:TX
END:VEVENT
BEGIN:VEVENT
DTSTART;VALUE=DATE:20210531
DTEND;VALUE=DATE:20210601
DTSTAMP:20260421T151405
CREATED:20210506T195345Z
LAST-MODIFIED:20210506T195345Z
UID:5867-1622419200-1622505599@dallasacademyofmusic.com
SUMMARY:CLOSED: Memorial Day
DESCRIPTION:DAMPA will be closed on Monday\, May 31st for Memorial Day. No lessons will take place\, including no online lessons. Enjoy your holiday weekend!
URL:https://dallasacademyofmusic.com/event/closed-memorial-day/
LOCATION:TX
END:VEVENT
BEGIN:VEVENT
DTSTART;VALUE=DATE:20210523
DTEND;VALUE=DATE:20210524
DTSTAMP:20260421T151405
CREATED:20210428T130155Z
LAST-MODIFIED:20210506T195125Z
UID:5703-1621728000-1621814399@dallasacademyofmusic.com
SUMMARY:Summer / Spring Recital Submissions Due For Students
DESCRIPTION:Submissions link: https://www.dropbox.com/request/6S3Bm3Np2URC6uEzYlYl \nJust like last time\, please record a video of your child performing their recital piece from the comfort of your own home! Before they play the song\, please have your child introduce themselves\, which teacher they study with\, and the song title that they will be performing. \nOnce the video is done\, simply drop it in the dropbox folder above\, and it will be sent to our video editing team to be edited together for a live stream reveal June 5th\, 2021 at 4:00pm! \nDeadline for video submission to be edited into the final video will be Sunday May 23d! Any videos submitted after the deadline will not be included in the final video\, however they WILL be posted to our social media one at a time over the next few weeks. Thank you for your understanding! \nPhone videos are totally fine! We found that having some lighting and reducing as much background noise as possible worked great to let your kiddos’ hard work come through the best! We suggest shooting “landscape” or “sideways” on your phone\, however vertical submission will still be accepted! \nWe will be watching all our awesome students perform these live on DAMPA’s facebook page Saturday June 5th at 4:00pm . If you have any questions about the video submissions please email our Director\, Todd\, at todd@dallasacademyofmusic.com
URL:https://dallasacademyofmusic.com/event/summer-spring-recital-submissions-due-for-students/
LOCATION:TX
END:VEVENT
END:VCALENDAR