BEGIN:VCALENDAR
VERSION:2.0
PRODID:-//Dallas Academy of Music &amp; Performing Arts - ECPv6.15.20//NONSGML v1.0//EN
CALSCALE:GREGORIAN
METHOD:PUBLISH
X-ORIGINAL-URL:https://dallasacademyofmusic.com
X-WR-CALDESC:Events for Dallas Academy of Music &amp; Performing Arts
REFRESH-INTERVAL;VALUE=DURATION:PT1H
X-Robots-Tag:noindex
X-PUBLISHED-TTL:PT1H
BEGIN:VTIMEZONE
TZID:America/Chicago
BEGIN:DAYLIGHT
TZOFFSETFROM:-0600
TZOFFSETTO:-0500
TZNAME:CDT
DTSTART:20240310T080000
END:DAYLIGHT
BEGIN:STANDARD
TZOFFSETFROM:-0500
TZOFFSETTO:-0600
TZNAME:CST
DTSTART:20241103T070000
END:STANDARD
BEGIN:DAYLIGHT
TZOFFSETFROM:-0600
TZOFFSETTO:-0500
TZNAME:CDT
DTSTART:20250309T080000
END:DAYLIGHT
BEGIN:STANDARD
TZOFFSETFROM:-0500
TZOFFSETTO:-0600
TZNAME:CST
DTSTART:20251102T070000
END:STANDARD
BEGIN:DAYLIGHT
TZOFFSETFROM:-0600
TZOFFSETTO:-0500
TZNAME:CDT
DTSTART:20260308T080000
END:DAYLIGHT
BEGIN:STANDARD
TZOFFSETFROM:-0500
TZOFFSETTO:-0600
TZNAME:CST
DTSTART:20261101T070000
END:STANDARD
BEGIN:DAYLIGHT
TZOFFSETFROM:-0600
TZOFFSETTO:-0500
TZNAME:CDT
DTSTART:20270314T080000
END:DAYLIGHT
BEGIN:STANDARD
TZOFFSETFROM:-0500
TZOFFSETTO:-0600
TZNAME:CST
DTSTART:20271107T070000
END:STANDARD
END:VTIMEZONE
BEGIN:VEVENT
DTSTART;VALUE=DATE:20250526
DTEND;VALUE=DATE:20250527
DTSTAMP:20260422T164626
CREATED:20250106T212748Z
LAST-MODIFIED:20250106T212748Z
UID:16597-1748217600-1748303999@dallasacademyofmusic.com
SUMMARY:Closed for Memorial Day
DESCRIPTION:DAMPA will be closed on Monday\, May 26th for Memorial Day. No lessons will take place on this day. Lessons will resume as normal on Monday\, May 27th. If you have any questions\, please call us at 833-281-2690!
URL:https://dallasacademyofmusic.com/event/closed-for-memorial-day-4/
LOCATION:Dallas Academy of Music and Performing Arts\, 3415 Milton Ave A\, Dallas\, TX\, 75205\, United States
CATEGORIES:School Closure
END:VEVENT
BEGIN:VEVENT
DTSTART;VALUE=DATE:20250609
DTEND;VALUE=DATE:20250623
DTSTAMP:20260422T164626
CREATED:20250428T210251Z
LAST-MODIFIED:20250428T210251Z
UID:16938-1749427200-1750636799@dallasacademyofmusic.com
SUMMARY:Summer Musical: The 25th Annual Putnam County Spelling Bee
DESCRIPTION:Our two week intensive summer musical! Students will spend two weeks learning\, rehearsing\, and then performing the hit broadway comedy musical The 25th Annual Putnam County Spelling Bee. \nVideo auditions due Friday\, May 2nd! Audition form available here: https://forms.gle/njgRnZ6kZ7jKycAs6 \nDetails: \n\nJune 9th-22nd (no rehearsals on June 14 or 15)\n10:00am-3:00pm\nShows June 20\, 21\, and 22\nAges 13+\nVenue: Artstillery (723 Fort Worth Ave\, Dallas\, TX 75208)\nTeachers: Lexie Pritchard and Lynn Ambrose\nAudition form deadline: May 2nd\nTuition: $599\n\nProduction description: An eclectic group of six mid-pubescents vie for the spelling championship of a lifetime. While candidly disclosing hilarious and touching stories from their home lives\, the tweens spell their way through a series of (potentially made-up) words\, hoping never to hear the soul-crushing\, pout-inducing\, life un-affirming “ding” of the bell that signals a spelling mistake. Six spellers enter; one speller leaves a champion! At least the losers get a juice box. A riotous ride\, complete with audience participation\, The 25th Annual Putnam County Spelling Bee is a delightful den of comedic genius! \nMore information available here: https://dallasacademyofmusic.com/spelling-bee
URL:https://dallasacademyofmusic.com/event/summer-musical-the-25th-annual-putnam-county-spelling-bee/
LOCATION:Dallas Academy of Music and Performing Arts\, 3415 Milton Ave A\, Dallas\, TX\, 75205\, United States
CATEGORIES:Musical Theatre Production,Summer Camp
END:VEVENT
BEGIN:VEVENT
DTSTART;VALUE=DATE:20250619
DTEND;VALUE=DATE:20250620
DTSTAMP:20260422T164626
CREATED:20250106T214322Z
LAST-MODIFIED:20250106T214322Z
UID:16599-1750291200-1750377599@dallasacademyofmusic.com
SUMMARY:Closed for Juneteenth
DESCRIPTION:DAMPA will be closed on Thursday\, June 19th for Juneteenth. No lessons or classes will take place on this day. Lessons & classes will resume as normal on Friday\, June 20th. If you have any questions\, please call us at 833-281-2690!
URL:https://dallasacademyofmusic.com/event/closed-for-juneteenth-2/
LOCATION:Dallas Academy of Music and Performing Arts\, 3415 Milton Ave A\, Dallas\, TX\, 75205\, United States
CATEGORIES:School Closure
END:VEVENT
BEGIN:VEVENT
DTSTART;VALUE=DATE:20250702
DTEND;VALUE=DATE:20250709
DTSTAMP:20260422T164626
CREATED:20250317T173038Z
LAST-MODIFIED:20250609T181900Z
UID:16704-1751414400-1752019199@dallasacademyofmusic.com
SUMMARY:Annual Summer Break
DESCRIPTION:DAMPA will be closed July 2nd-8th for our annual summer break. No lessons will take place during this time. Lessons will resume as normal on Wednesday\, July 9th. \nIf you have any questions\, please feel free to call DAMPA at 833-281-2690!
URL:https://dallasacademyofmusic.com/event/annual-july-closure/
LOCATION:Dallas Academy of Music and Performing Arts\, 3415 Milton Ave A\, Dallas\, TX\, 75205\, United States
CATEGORIES:School Closure
END:VEVENT
BEGIN:VEVENT
DTSTART;VALUE=DATE:20250721
DTEND;VALUE=DATE:20250726
DTSTAMP:20260422T164626
CREATED:20250320T203914Z
LAST-MODIFIED:20250320T205804Z
UID:16766-1753056000-1753487999@dallasacademyofmusic.com
SUMMARY:Vocal Femininomenon Summer Camp: Session 1
DESCRIPTION:Welcome to Vocal Femininomenon Summer Camp by Dallas Academy of Music and Performing Arts! Campers will spend the week learning to perform and record songs from their favorite pop artists such as Taylor Swift\, Olivia Rodrigo\, and Chappell Roan! \nStudents will develop pop vocal techniques\, have the opportunity to learn introductory skills on instruments such as guitar & piano\, professionally record three songs\, have fun with karaoke and friendship bracelets\, cheer each other on during the “Supernova Awards”\, and put on a final showcase performance for families at the end of the week! Get ready for a summer your pink pony girl will never forget. So dress up like your favorite artist and come join the fun – are you ready for it?! \nDetails available here: https://dallasacademyofmusic.com/summer-camp/
URL:https://dallasacademyofmusic.com/event/vocal-femininomenon-summer-camp-session-1/
LOCATION:Dallas Academy of Music and Performing Arts\, 3415 Milton Ave A\, Dallas\, TX\, 75205\, United States
CATEGORIES:Summer Camp
ATTACH;FMTTYPE=image/png:https://dallasacademyofmusic.com/wp-content/uploads/2025/03/Taylor-Swift-Camp-Flyers-2000-x-2000-px.png
END:VEVENT
BEGIN:VEVENT
DTSTART;VALUE=DATE:20250728
DTEND;VALUE=DATE:20250802
DTSTAMP:20260422T164626
CREATED:20250624T185343Z
LAST-MODIFIED:20250624T185425Z
UID:17333-1753660800-1754092799@dallasacademyofmusic.com
SUMMARY:GarageBand Camp
DESCRIPTION:Create music using iPads! Join teacher Adam McGrath from July 28 – August 1 from 12pm-2pm\, and dive into the world of digital music production! For ages 8-12 years old\, with beginner to intermediate piano experience. \n\nJuly 28 – August 1\n12:00pm – 2:00pm\nMonday – Friday\nAges: 8-12\nTeacher: Adam McGrath\nTuition $249
URL:https://dallasacademyofmusic.com/event/garageband-camp/
LOCATION:Dallas Academy of Music and Performing Arts\, 3415 Milton Ave A\, Dallas\, TX\, 75205\, United States
CATEGORIES:Summer Camp
END:VEVENT
BEGIN:VEVENT
DTSTART;VALUE=DATE:20250804
DTEND;VALUE=DATE:20250809
DTSTAMP:20260422T164626
CREATED:20250320T205607Z
LAST-MODIFIED:20250320T205750Z
UID:16768-1754265600-1754697599@dallasacademyofmusic.com
SUMMARY:Vocal Femininomenon Summer Camp: Session 2
DESCRIPTION:Welcome to Vocal Femininomenon Summer Camp by Dallas Academy of Music and Performing Arts! Campers will spend the week learning to perform and record songs from their favorite pop artists such as Taylor Swift\, Olivia Rodrigo\, and Chappell Roan! \nStudents will develop pop vocal techniques\, have the opportunity to learn introductory skills on instruments such as guitar & piano\, professionally record three songs\, have fun with karaoke and friendship bracelets\, cheer each other on during the “Supernova Awards”\, and put on a final showcase performance for families at the end of the week! Get ready for a summer your pink pony girl will never forget. So dress up like your favorite artist and come join the fun – are you ready for it?! \nDetails available here: https://dallasacademyofmusic.com/summer-camp/
URL:https://dallasacademyofmusic.com/event/vocal-femininomenon-summer-camp-session-2/
LOCATION:Dallas Academy of Music and Performing Arts\, 3415 Milton Ave A\, Dallas\, TX\, 75205\, United States
CATEGORIES:Summer Camp
ATTACH;FMTTYPE=image/png:https://dallasacademyofmusic.com/wp-content/uploads/2025/03/Taylor-Swift-Camp-Flyers-2000-x-2000-px.png
END:VEVENT
BEGIN:VEVENT
DTSTART;VALUE=DATE:20250901
DTEND;VALUE=DATE:20250902
DTSTAMP:20260422T164626
CREATED:20250304T205325Z
LAST-MODIFIED:20250304T205325Z
UID:16697-1756684800-1756771199@dallasacademyofmusic.com
SUMMARY:Closed for Labor Day
DESCRIPTION:DAMPA will be closed on Monday\, September 1st for Labor Day. No lessons will take place on this day. Lessons will resume as normal on Tuesday\, September 2nd. If you have any questions\, please call us at 833-281-2690!
URL:https://dallasacademyofmusic.com/event/closed-for-labor-day-3/
LOCATION:Dallas Academy of Music and Performing Arts\, 3415 Milton Ave A\, Dallas\, TX\, 75205\, United States
CATEGORIES:School Closure
END:VEVENT
BEGIN:VEVENT
DTSTART;TZID=America/Chicago:20250906T110000
DTEND;TZID=America/Chicago:20250906T130000
DTSTAMP:20260422T164626
CREATED:20250527T194011Z
LAST-MODIFIED:20250527T194011Z
UID:16980-1757156400-1757163600@dallasacademyofmusic.com
SUMMARY:Back to School Open House!
DESCRIPTION:Come and see all that DAMPA has to offer at our “Back to School” open house September 6th\, 2025 from 11am – 1pm! Get ready to:\n\nTour the facilities\nSee live teacher & student performances\nAccess a FREE trial lesson\nEnjoy refreshments\nHave our full attention to answer questions and help guide you through the process of beginning or continuing your child’s music education journey!
URL:https://dallasacademyofmusic.com/event/back-to-school-open-house-3/
LOCATION:Dallas Academy of Music and Performing Arts\, 3415 Milton Ave A\, Dallas\, TX\, 75205\, United States
CATEGORIES:Open House
END:VEVENT
BEGIN:VEVENT
DTSTART;TZID=America/Chicago:20251011T120000
DTEND;TZID=America/Chicago:20251011T140000
DTSTAMP:20260422T164626
CREATED:20250527T194457Z
LAST-MODIFIED:20251001T234032Z
UID:16982-1760184000-1760191200@dallasacademyofmusic.com
SUMMARY:Spooky Student Showcase
DESCRIPTION:DAMPA invites you to join us for our “spooky” Halloween-themed student showcase! Takes place Sunday\, October 11th from 12:00pm – 2:00pm at Opening Bell Coffee. Students\, come dressed up in your favorite costume! And friends & family – come enjoy live music and support our talented students!
URL:https://dallasacademyofmusic.com/event/spooky-student-showcase/
LOCATION:TX
CATEGORIES:Student Showcase
END:VEVENT
BEGIN:VEVENT
DTSTART;TZID=America/Chicago:20251122T170000
DTEND;TZID=America/Chicago:20251122T190000
DTSTAMP:20260422T164626
CREATED:20250527T201103Z
LAST-MODIFIED:20251112T010300Z
UID:16984-1763830800-1763838000@dallasacademyofmusic.com
SUMMARY:Cut Loose for a Cause! DAMPA Footloose Fundraiser
DESCRIPTION:Date: Saturday\, November 22\, 2025Time: 5:00 – 7:00 PM (right after rehearsal)Location: Artstillery \nGet ready to kick off your Sunday shoes and celebrate with us at the DAMPA Footloose Fundraiser! Join students\, families\, and friends for an evening full of music\, dancing\, and community spirit—all in support of DAMPA’s Musical Theatre Program. \nThis high-energy event will help raise funds for program development\, scholarships\, and production costs—ensuring our students continue to shine on stage all year long.
URL:https://dallasacademyofmusic.com/event/fall-musical-fundraiser-event/
LOCATION:Artstillery\, 723 Fort Worth Ave\, Dallas\, Texas\, 75208
CATEGORIES:Fundraiser
END:VEVENT
BEGIN:VEVENT
DTSTART;VALUE=DATE:20251124
DTEND;VALUE=DATE:20251201
DTSTAMP:20260422T164626
CREATED:20250304T202854Z
LAST-MODIFIED:20250304T202854Z
UID:16694-1763942400-1764547199@dallasacademyofmusic.com
SUMMARY:Thanksgiving Break
DESCRIPTION:DAMPA will be closed for Thanksgiving Break from November 24th – 30th\, 2025. No lessons will take place during this time. Lessons will resume as normal on Monday\, December 1st. If you have any questions\, please call us at 833-281-2690!
URL:https://dallasacademyofmusic.com/event/thanksgiving-break-4/
LOCATION:Dallas Academy of Music and Performing Arts\, 3415 Milton Ave A\, Dallas\, TX\, 75205\, United States
CATEGORIES:School Closure
END:VEVENT
BEGIN:VEVENT
DTSTART;TZID=America/Chicago:20251207T120000
DTEND;TZID=America/Chicago:20251207T170000
DTSTAMP:20260422T164626
CREATED:20250529T183849Z
LAST-MODIFIED:20250529T183849Z
UID:16997-1765108800-1765126800@dallasacademyofmusic.com
SUMMARY:Winter Recital 2025
DESCRIPTION:We are SO excited to see all of our amazing students perform in person for this years Winter Recital! Venue TBD\, more info coming soon! \nRegister to participate in this year’s Spring Recital here: (coming soon)
URL:https://dallasacademyofmusic.com/event/winter-recital-2025/
LOCATION:TX
CATEGORIES:Recital
END:VEVENT
BEGIN:VEVENT
DTSTART;VALUE=DATE:20251222
DTEND;VALUE=DATE:20260105
DTSTAMP:20260422T164626
CREATED:20250304T202352Z
LAST-MODIFIED:20250304T202352Z
UID:16692-1766361600-1767571199@dallasacademyofmusic.com
SUMMARY:Winter Break
DESCRIPTION:DAMPA will be closed December 22nd – January 4th for Winter Break. No lessons will take place during this time. Lessons will resume as normal on Monday\, January 5th. If you have any questions\, please call us at 833-281-2690!
URL:https://dallasacademyofmusic.com/event/winter-break-3/
LOCATION:Dallas Academy of Music and Performing Arts\, 3415 Milton Ave A\, Dallas\, TX\, 75205\, United States
CATEGORIES:School Closure
END:VEVENT
BEGIN:VEVENT
DTSTART;VALUE=DATE:20260120
DTEND;VALUE=DATE:20260121
DTSTAMP:20260422T164626
CREATED:20260113T001429Z
LAST-MODIFIED:20260113T001429Z
UID:17845-1768867200-1768953599@dallasacademyofmusic.com
SUMMARY:Closed for MLK Day
DESCRIPTION:DAMPA will be closed on January 19\, 2026 for MLK Day. No lessons will take place. We will reopen on Tuesday\, January 20th! \nQuestions? Call us at 833-281-2690
URL:https://dallasacademyofmusic.com/event/closed-for-mlk-day/
LOCATION:Dallas Academy of Music and Performing Arts\, 3415 Milton Ave A\, Dallas\, TX\, 75205\, United States
CATEGORIES:School Closure
END:VEVENT
BEGIN:VEVENT
DTSTART;VALUE=DATE:20260214
DTEND;VALUE=DATE:20260215
DTSTAMP:20260422T164626
CREATED:20250527T202500Z
LAST-MODIFIED:20250527T202550Z
UID:16986-1771027200-1771113599@dallasacademyofmusic.com
SUMMARY:Valentine's Day Showcase
DESCRIPTION:DAMPA invites you to join us for our Valentine’s Day student showcase! Takes place Saturday\, February 14th (location and time TBD). Students\, come dressed up in your favorite Valentine’s outfit! And friends & family – come enjoy live music and support our talented students! \nMore details coming soon.
URL:https://dallasacademyofmusic.com/event/valentines-day-showcase/
LOCATION:TX
CATEGORIES:Student Showcase
END:VEVENT
BEGIN:VEVENT
DTSTART;VALUE=DATE:20260314
DTEND;VALUE=DATE:20260315
DTSTAMP:20260422T164626
CREATED:20250527T203649Z
LAST-MODIFIED:20250527T203649Z
UID:16989-1773446400-1773532799@dallasacademyofmusic.com
SUMMARY:St. Patrick's Day Student Showcase
DESCRIPTION:DAMPA invites you to join us for our St. Patrick’s Day student showcase! Takes place Saturday\, March 14th (location and time TBD). Students\, come dressed up in your favorite St. Patrick’s Day outfit! And friends & family – come enjoy live music and support our talented students! \nMore details coming soon.
URL:https://dallasacademyofmusic.com/event/st-patricks-day-student-showcase/
LOCATION:TX
CATEGORIES:Student Showcase
END:VEVENT
BEGIN:VEVENT
DTSTART;TZID=America/Chicago:20260404T150000
DTEND;TZID=America/Chicago:20260404T173000
DTSTAMP:20260422T164626
CREATED:20260317T004553Z
LAST-MODIFIED:20260317T004626Z
UID:17864-1775314800-1775323800@dallasacademyofmusic.com
SUMMARY:Pop Vocal Group Class Starts
DESCRIPTION:Saturdays\, 3pm-4:30pm\nStart Date: April 4\, 2026\nTuition: $199/month\, or $179/month when you sign up with a friend!\n\nTake your singing to the next level in DAMPA’s Pop Vocal Group Class\, designed for students who want to develop their voice while learning how to perform confidently with others! \nIn this high-energy class\, students will work on pop vocal technique\, harmonies\, stage presence\, and group performance skills while performing popular songs in a collaborative\, band-style environment. Students will also gain hands-on experience in DAMPA’s professional recording studio\, learning how modern vocal recordings are made and building confidence both on stage and behind the microphone. \nThroughout the program\, students will have live performance opportunities\, giving them real-world experience performing for audiences while developing their artistry. At DAMPA\, we combine top-tier vocal coaching\, studio training\, and live performance experience to create a complete modern music education.
URL:https://dallasacademyofmusic.com/event/pop-vocal-group-class-starts/
LOCATION:Dallas Academy of Music and Performing Arts\, 3415 Milton Ave A\, Dallas\, TX\, 75205\, United States
END:VEVENT
BEGIN:VEVENT
DTSTART;TZID=America/Chicago:20260503T120000
DTEND;TZID=America/Chicago:20260503T170000
DTSTAMP:20260422T164626
CREATED:20250528T173413Z
LAST-MODIFIED:20250528T173413Z
UID:16994-1777809600-1777827600@dallasacademyofmusic.com
SUMMARY:Spring Recital 2026
DESCRIPTION:We are SO excited to see all of our amazing students perform in person for this years Spring Recital\, taking place at the beautiful Four Day Weekend Theater! \nRegister to participate in this year’s Spring Recital here: (coming soon) \nIf you have not been to Four Day Weekend theatre yet\, you are in for a treat! With a gorgeous art deco design\, a wrap around balcony\, 150+ seats\, a full bar\, and a grand piano\, we are thrilled to have our students perform here!\n\nNote* Family and friends are welcome to come and view for free! There is a $50 per performing student fee.\nWe are looking forward to hearing all our awesome students perform and celebrating the holidays with our DAMPA family!\n\n*Estimated end time
URL:https://dallasacademyofmusic.com/event/spring-recital-2026/
LOCATION:TX
CATEGORIES:Recital
END:VEVENT
END:VCALENDAR