BEGIN:VCALENDAR
VERSION:2.0
PRODID:-//Dallas Academy of Music &amp; Performing Arts - ECPv6.15.20//NONSGML v1.0//EN
CALSCALE:GREGORIAN
METHOD:PUBLISH
X-WR-CALNAME:Dallas Academy of Music &amp; Performing Arts
X-ORIGINAL-URL:https://dallasacademyofmusic.com
X-WR-CALDESC:Events for Dallas Academy of Music &amp; Performing Arts
REFRESH-INTERVAL;VALUE=DURATION:PT1H
X-Robots-Tag:noindex
X-PUBLISHED-TTL:PT1H
BEGIN:VTIMEZONE
TZID:America/Chicago
BEGIN:DAYLIGHT
TZOFFSETFROM:-0600
TZOFFSETTO:-0500
TZNAME:CDT
DTSTART:20200308T080000
END:DAYLIGHT
BEGIN:STANDARD
TZOFFSETFROM:-0500
TZOFFSETTO:-0600
TZNAME:CST
DTSTART:20201101T070000
END:STANDARD
BEGIN:DAYLIGHT
TZOFFSETFROM:-0600
TZOFFSETTO:-0500
TZNAME:CDT
DTSTART:20210314T080000
END:DAYLIGHT
BEGIN:STANDARD
TZOFFSETFROM:-0500
TZOFFSETTO:-0600
TZNAME:CST
DTSTART:20211107T070000
END:STANDARD
BEGIN:DAYLIGHT
TZOFFSETFROM:-0600
TZOFFSETTO:-0500
TZNAME:CDT
DTSTART:20220313T080000
END:DAYLIGHT
BEGIN:STANDARD
TZOFFSETFROM:-0500
TZOFFSETTO:-0600
TZNAME:CST
DTSTART:20221106T070000
END:STANDARD
BEGIN:DAYLIGHT
TZOFFSETFROM:-0600
TZOFFSETTO:-0500
TZNAME:CDT
DTSTART:20230312T080000
END:DAYLIGHT
BEGIN:STANDARD
TZOFFSETFROM:-0500
TZOFFSETTO:-0600
TZNAME:CST
DTSTART:20231105T070000
END:STANDARD
BEGIN:DAYLIGHT
TZOFFSETFROM:-0600
TZOFFSETTO:-0500
TZNAME:CDT
DTSTART:20240310T080000
END:DAYLIGHT
BEGIN:STANDARD
TZOFFSETFROM:-0500
TZOFFSETTO:-0600
TZNAME:CST
DTSTART:20241103T070000
END:STANDARD
END:VTIMEZONE
BEGIN:VEVENT
DTSTART;VALUE=DATE:20231120
DTEND;VALUE=DATE:20231127
DTSTAMP:20260421T204120
CREATED:20220714T165156Z
LAST-MODIFIED:20220714T165156Z
UID:7191-1700438400-1701043199@dallasacademyofmusic.com
SUMMARY:Thanksgiving Break
DESCRIPTION:DAMPA will be closed for Thanksgiving Break from November 20 – 26. No classes or lessons will take place during this time. Classes and lessons will resume as normal starting on Monday\, November 27th.
URL:https://dallasacademyofmusic.com/event/thanksgiving-break-2/
LOCATION:TX
END:VEVENT
BEGIN:VEVENT
DTSTART;TZID=America/Chicago:20231118T130000
DTEND;TZID=America/Chicago:20231118T150000
DTSTAMP:20260421T204120
CREATED:20230828T181259Z
LAST-MODIFIED:20230828T181511Z
UID:8854-1700312400-1700319600@dallasacademyofmusic.com
SUMMARY:Student Showcase at Opening Bell Coffee
DESCRIPTION:DAMPA invites you to join us for our student showcase at Opening Bell Coffee! Takes place Saturday\, November 18th\, from 1:00pm – 3:00pm. Come enjoy live music and support our talented students! \n\nOpening Bell Coffee\n1409 Botham Jean Blvd\, Dallas\, TX 75215
URL:https://dallasacademyofmusic.com/event/student-showcase-at-opening-bell-coffee/
LOCATION:Opening Bell Coffee\, 1409 Botham Jean Blvd\, Dallas\, TX\, 75215\, United States
ATTACH;FMTTYPE=image/png:https://dallasacademyofmusic.com/wp-content/uploads/2023/08/Student-Showcase-Opening-Bell-11.18.23-FB-Cover.png
END:VEVENT
BEGIN:VEVENT
DTSTART;TZID=America/Chicago:20231112T130000
DTEND;TZID=America/Chicago:20231112T150000
DTSTAMP:20260421T204120
CREATED:20231030T120657Z
LAST-MODIFIED:20231030T120657Z
UID:9018-1699794000-1699801200@dallasacademyofmusic.com
SUMMARY:Vocal Performance Masterclass with Guest Artist Blanche J
DESCRIPTION:This course is designed to enhance students’ vocal performance skills and mastery of vocal techniques!  \nBlanche J is a vocalist and songwriter originally from Wildwood\, FL. Blanche hails from a family of musicians & singers\, and began leading her family choir at the age of 3. A tragic car accident allowed Blanche to find her connection with music\, after being physically impaired at 14 years old. An alumna of Florida A&M University\, it was during her time at FAMU\, that Blanche started to nurture her background in NeoSoul\, R&B\, Gospel\, and Classical music.\n\nBlanche J relocated to Charlotte\, NC\, in 2009\, where local jazz artist & producer\, Paul Whitley\, pushed her to share her voice with the world in the form of real music. In 2013\, Blanche J released her very first EP\, entitled iAmMuziq\, produced by Paul\, with single\, You Are the One. Blanche later teamed up with indie artist\, songwriter\, & producer\, Micki Miller\, and released her next EP\, voice memos a\, led by single Grey Skies in December 2018. Blanche’s latest project\, voice memos b\, released in September 2019 and also produced by Micki\, is buzzing internationally\, spending time on top of the music charts and being nominated for People’s Choice awards in the UK.\n\nBlanche J currently resides in the Dallas-Fort Worth\, TX\, area\, where she is continuing her pursuit of spreading love and healing through music. Stay tuned for more dates and more MUSIC!
URL:https://dallasacademyofmusic.com/event/vocal-performance-masterclass-with-guest-artist-blanche-j/
LOCATION:Dallas Academy of Music and Performing Arts\, 3415 Milton Ave A\, Dallas\, TX\, 75205\, United States
END:VEVENT
BEGIN:VEVENT
DTSTART;TZID=America/Chicago:20231015T120000
DTEND;TZID=America/Chicago:20231015T140000
DTSTAMP:20260421T204120
CREATED:20230828T180952Z
LAST-MODIFIED:20230828T181614Z
UID:8851-1697371200-1697378400@dallasacademyofmusic.com
SUMMARY:Student Showcase at The Wild Detectives
DESCRIPTION:DAMPA invites you to join us for our student showcase at The Wild Detectives! Takes place October 15th\, from 12:00pm – 2:00pm. Come enjoy live music and support our talented students! \nThe Wild Detectives\n314 W Eighth St\, Dallas\, TX 75208\n 
URL:https://dallasacademyofmusic.com/event/student-showcase-at-the-wild-detectives/
LOCATION:The Wild Detectives\, 314 W Eighth St\, Dallas\, 75208\, United States
CATEGORIES:Student Showcase
ATTACH;FMTTYPE=image/png:https://dallasacademyofmusic.com/wp-content/uploads/2023/08/Student-Showcase-Wild-Detectives-101523-FB-Cover.png
END:VEVENT
BEGIN:VEVENT
DTSTART;TZID=America/Chicago:20231014T163000
DTEND;TZID=America/Chicago:20231014T183000
DTSTAMP:20260421T204120
CREATED:20230913T121144Z
LAST-MODIFIED:20230913T121144Z
UID:8904-1697301000-1697308200@dallasacademyofmusic.com
SUMMARY:Audition Masterclass
DESCRIPTION:Dallas Academy of Music and Performing Arts is excited to present our first Audition Masterclass on Saturday\, October 14th from 4:30-6:30 pm!\n\nThis course is designed to give students audition-style performance experiences and provide tools to help prepare for upcoming auditions. In this class\, students will take turns performing their audition repertoire in a supportive\, safe space for other peers as well as a rotating guest artist who will provide constructive feedback and helpful tips to aid preparation leading up to an audition.\n\nFor this upcoming masterclass\, we are THRILLED to announce that we will be having the incredible Doug Miller as our first special guest. Doug is a superb musical theatre actor\, director\, choreographer\, and educator located in the DFW area. He is currently the Musical Theater Conservatory Director at Dallas Children’s Theatre\, where he will be directing “A Charlie Brown Christmas” this winter. Don’t miss this opportunity to perform and receive audition advice from a true master of the industry!!
URL:https://dallasacademyofmusic.com/event/audition-masterclass/
LOCATION:TX
CATEGORIES:Audition Masterclass
END:VEVENT
BEGIN:VEVENT
DTSTART;VALUE=DATE:20230904
DTEND;VALUE=DATE:20230905
DTSTAMP:20260421T204120
CREATED:20220714T165017Z
LAST-MODIFIED:20220714T165017Z
UID:7189-1693785600-1693871999@dallasacademyofmusic.com
SUMMARY:Labor Day Closure
DESCRIPTION:DAMPA will be closed for Labor Day on September 4th. No classes or lessons will take place during this time. Classes and lessons will resume as normal starting on Tuesday\, September 5th.
URL:https://dallasacademyofmusic.com/event/labor-day-closure/
LOCATION:TX
END:VEVENT
BEGIN:VEVENT
DTSTART;TZID=America/Chicago:20230805T110000
DTEND;TZID=America/Chicago:20230805T130000
DTSTAMP:20260421T204120
CREATED:20230718T132449Z
LAST-MODIFIED:20230718T132449Z
UID:8456-1691233200-1691240400@dallasacademyofmusic.com
SUMMARY:Back to School Open House!
DESCRIPTION:Come and see all that DAMPA has to offer at our “Back to School” open house August 5th\, 2023 from 11am – 1pm! If you come you get access to a free private lesson that we will schedule with you in person!\n\nWhat to expect?\n– Tour of the facilities\n– Teacher & Student performances\n– FREE lesson sign up\n– Snacks & drinks\n– Our full attention to answer any and all questions and help guide you through the process of beginning or continuing your child’s music education!
URL:https://dallasacademyofmusic.com/event/back-to-school-open-house/
LOCATION:Dallas Academy of Music and Performing Arts\, 3415 Milton Ave A\, Dallas\, TX\, 75205\, United States
END:VEVENT
BEGIN:VEVENT
DTSTART;VALUE=DATE:20230701
DTEND;VALUE=DATE:20230706
DTSTAMP:20260421T204120
CREATED:20220714T164821Z
LAST-MODIFIED:20220714T164821Z
UID:7187-1688169600-1688601599@dallasacademyofmusic.com
SUMMARY:July School Closure
DESCRIPTION:DAMPA will be closed from July 1st – 5th\, 2023. No lessons or classes will take place during this time. All lessons and classes will resume as normal on July 6th\, 2023.
URL:https://dallasacademyofmusic.com/event/july-school-closure-2/
LOCATION:TX
END:VEVENT
BEGIN:VEVENT
DTSTART;VALUE=DATE:20230529
DTEND;VALUE=DATE:20230530
DTSTAMP:20260421T204120
CREATED:20220714T152526Z
LAST-MODIFIED:20220714T152526Z
UID:7183-1685318400-1685404799@dallasacademyofmusic.com
SUMMARY:Closed for Memorial Day
DESCRIPTION:DAMPA will be closed for Memorial Day on May 29th. No classes or lessons will take place during this time. Classes and lessons will resume as normal starting on Tuesday\, May 30th.
URL:https://dallasacademyofmusic.com/event/closed-for-memorial-day-2/
LOCATION:TX
END:VEVENT
BEGIN:VEVENT
DTSTART;VALUE=DATE:20230313
DTEND;VALUE=DATE:20230320
DTSTAMP:20260421T204120
CREATED:20220714T152340Z
LAST-MODIFIED:20220714T152340Z
UID:7181-1678665600-1679270399@dallasacademyofmusic.com
SUMMARY:Spring Break
DESCRIPTION:DAMPA will be closed for Spring Break from March 13 – 19. No classes or lessons will take place during this time. Classes and lessons will resume as normal starting on Monday\, March 20th.
URL:https://dallasacademyofmusic.com/event/spring-break/
LOCATION:TX
END:VEVENT
BEGIN:VEVENT
DTSTART;VALUE=DATE:20230116
DTEND;VALUE=DATE:20230117
DTSTAMP:20260421T204120
CREATED:20220714T152206Z
LAST-MODIFIED:20220714T152206Z
UID:7179-1673827200-1673913599@dallasacademyofmusic.com
SUMMARY:Closed for Martin Luther King Day
DESCRIPTION:DAMPA will be closed for Martin Luther King Day on January 16th. No classes or lessons will take place during this time. Classes and lessons will resume as normal starting on Tuesday\, January 17th.
URL:https://dallasacademyofmusic.com/event/closed-for-martin-luther-king-day/
LOCATION:TX
END:VEVENT
BEGIN:VEVENT
DTSTART;VALUE=DATE:20221224
DTEND;VALUE=DATE:20230104
DTSTAMP:20260421T204120
CREATED:20220714T152027Z
LAST-MODIFIED:20220922T123129Z
UID:7177-1671840000-1672790399@dallasacademyofmusic.com
SUMMARY:Winter Break
DESCRIPTION:DAMPA will be closed for Winter Break from December 24 – January 3. No classes or lessons will take place during this time. Classes and lessons will resume as normal starting on Thursday\, January 4th.
URL:https://dallasacademyofmusic.com/event/winter-break/
LOCATION:TX
END:VEVENT
BEGIN:VEVENT
DTSTART;VALUE=DATE:20221123
DTEND;VALUE=DATE:20221128
DTSTAMP:20260421T204120
CREATED:20220714T151752Z
LAST-MODIFIED:20221121T235408Z
UID:7175-1669161600-1669593599@dallasacademyofmusic.com
SUMMARY:Thanksgiving Break
DESCRIPTION:DAMPA will be closed for Thanksgiving from November 23 – 27. No classes or lessons will take place during this time. Classes and lessons will resume as normal starting on Monday\, November 28th.
URL:https://dallasacademyofmusic.com/event/thanksgiving-break/
LOCATION:TX
END:VEVENT
BEGIN:VEVENT
DTSTART;VALUE=DATE:20220905
DTEND;VALUE=DATE:20220906
DTSTAMP:20260421T204120
CREATED:20220714T150236Z
LAST-MODIFIED:20220714T150336Z
UID:7173-1662336000-1662422399@dallasacademyofmusic.com
SUMMARY:Closed for Labor Day
DESCRIPTION:DAMPA will be closed for Labor Day on Monday\, September 5\, 2022. No classes or lessons will take place on this day. All classes and lessons will resume as normal on Tuesday\, September 6th.
URL:https://dallasacademyofmusic.com/event/closed-for-labor-day/
LOCATION:TX
END:VEVENT
BEGIN:VEVENT
DTSTART;VALUE=DATE:20220701
DTEND;VALUE=DATE:20220706
DTSTAMP:20260421T204120
CREATED:20220607T014955Z
LAST-MODIFIED:20220607T014955Z
UID:7140-1656633600-1657065599@dallasacademyofmusic.com
SUMMARY:July School Closure
DESCRIPTION:DAMPA will be closed from July 1st – 5th\, 2022. No lessons or classes will take place during this time. All lessons and classes will resume as normal on July 6th\, 2022.
URL:https://dallasacademyofmusic.com/event/july-school-closure/
LOCATION:TX
END:VEVENT
BEGIN:VEVENT
DTSTART;VALUE=DATE:20220620
DTEND;VALUE=DATE:20220625
DTSTAMP:20260421T204120
CREATED:20220418T142814Z
LAST-MODIFIED:20220418T142814Z
UID:7033-1655683200-1656115199@dallasacademyofmusic.com
SUMMARY:Bach Rocks! Beginner Piano Camp
DESCRIPTION:A fun-filled\, 5 day camp giving your child the skills they need to begin their journey studying music! \nMonday through Friday\, 12:00pm – 2:00pm \nOn-site at DAMPA \nMore information and online enrollment available here: https://dallasacademyofmusic.com/bach-rocks-2022/
URL:https://dallasacademyofmusic.com/event/bach-rocks-beginner-piano-camp-5/
LOCATION:TX
END:VEVENT
BEGIN:VEVENT
DTSTART;TZID=America/Chicago:20220612T120000
DTEND;TZID=America/Chicago:20220612T180000
DTSTAMP:20260421T204120
CREATED:20220505T171114Z
LAST-MODIFIED:20220505T171114Z
UID:7118-1655035200-1655056800@dallasacademyofmusic.com
SUMMARY:Spring/Summer Recital 2022
DESCRIPTION:We are SO excited to see all of our amazing students perform in person for this years Spring / Summer recital\, taking place at: Four Day Weekend Theater!\nIf your kiddo will be performing please fill out the Google Forum linked bellow by June 1st:\nhttps://forms.gle/RbK6iMdcc5uV66k19\nEvent Information:\nDate: June 12th (Sunday) 2022\n12:00pm – 6:00pm*\nLocation: 5601 Sears St\, Dallas\, TX 75206\nIf you have not been to Four Day Weekend theatre yet\, you are in for a treat! With a gorgeous art deco design\, a wrap around balcony\, 150+ seats\, a full bar\, and a grand piano\, we are thrilled to have our students perform here!\nNote* Family and friends are welcome to come and view for free! There is a $40 per performing student fee.\nWe are looking forward to hearing all our awesome students perform and celebrating the holidays with our DAMPA family!\n*estimated end time\n\nFacebook Event page: https://www.facebook.com/events/294885592850488
URL:https://dallasacademyofmusic.com/event/spring-summer-recital-2022/
LOCATION:TX
END:VEVENT
BEGIN:VEVENT
DTSTART;VALUE=DATE:20220505
DTEND;VALUE=DATE:20220506
DTSTAMP:20260421T204120
CREATED:20220505T170408Z
LAST-MODIFIED:20220505T170408Z
UID:7115-1651708800-1651795199@dallasacademyofmusic.com
SUMMARY:Closed For Memorial Day
DESCRIPTION:DAMPA is closed on Monday\, May 30th for Memorial Day. No lessons or classes will take place on this date. All lessons and classes will resume as normal on Tuesday\, May 31st
URL:https://dallasacademyofmusic.com/event/closed-for-memorial-day/
LOCATION:TX
END:VEVENT
BEGIN:VEVENT
DTSTART;VALUE=DATE:20220314
DTEND;VALUE=DATE:20220321
DTSTAMP:20260421T204120
CREATED:20220208T172540Z
LAST-MODIFIED:20220208T172615Z
UID:6699-1647216000-1647820799@dallasacademyofmusic.com
SUMMARY:Spring Break Closure
DESCRIPTION:DAMPA will be closed for Spring Break from Monday\, March 14th through Sunday\, March 20th. No lessons will take place during this time. All lessons will resume as normal on Monday\, March 21st. We hope you enjoy your Spring Break!
URL:https://dallasacademyofmusic.com/event/spring-break-closure/
LOCATION:TX
END:VEVENT
BEGIN:VEVENT
DTSTART;VALUE=DATE:20211224
DTEND;VALUE=DATE:20220104
DTSTAMP:20260421T204120
CREATED:20210901T170600Z
LAST-MODIFIED:20210901T170600Z
UID:6016-1640304000-1641254399@dallasacademyofmusic.com
SUMMARY:Closed for Winter Break
DESCRIPTION:DAMPA will be closed December 24th – January 3rd for Winter Break. No classes or lessons will take place during this time. All classes and lessons will resume as normal on Tuesday\, January 4th.
URL:https://dallasacademyofmusic.com/event/closed-for-winter-break/
LOCATION:TX
END:VEVENT
BEGIN:VEVENT
DTSTART;TZID=America/Chicago:20211212T120000
DTEND;TZID=America/Chicago:20211212T180000
DTSTAMP:20260421T204120
CREATED:20211110T164413Z
LAST-MODIFIED:20211110T194250Z
UID:6288-1639310400-1639332000@dallasacademyofmusic.com
SUMMARY:DAMPA's 2021 Winter Recital
DESCRIPTION:We are SO excited to see all of our amazing students perform for this year’s Winter recital\, taking place at: Four Day Weekend Theater! \n\nDate: Sunday\, December 12\, 2021\nTime: 12pm to 6pm (estimated end time)\nLocation: Four Day Weekend Theater\nAddress: 5601 Sears St\, Dallas\, TX 75206\n\nHoliday music is suggested\, but not required. \nIf you have not been to Four Day Weekend theatre yet\, you are in for a treat! With gorgeous art deco design\, a wrap-around balcony\, 150+ seats\, a full bar\, and a grand piano\, we are thrilled to have our students perform here! \nIf you or a child from your family will be performing please complete the following google form to sign up:\nhttps://docs.google.com/forms/d/1bQdzhL_MI4efJKTZ0gllnDlzjEzbtBxguUKS6dr8QC0/prefill \n\n\nIf you have any questions feel free to call us at 833.281.2690 – Text us at 214.965.8324 or email us at makemusic@dallasacademyofmusic.com
URL:https://dallasacademyofmusic.com/event/dampas-2021-winter-recital/
LOCATION:TX
ATTACH;FMTTYPE=image/png:https://dallasacademyofmusic.com/wp-content/uploads/2021/11/Winter-Recital-2021-Event-Page-Image-1.png
END:VEVENT
BEGIN:VEVENT
DTSTART;VALUE=DATE:20211122
DTEND;VALUE=DATE:20211129
DTSTAMP:20260421T204120
CREATED:20210901T170300Z
LAST-MODIFIED:20210901T170300Z
UID:6014-1637539200-1638143999@dallasacademyofmusic.com
SUMMARY:Closed for Thanksgiving
DESCRIPTION:DAMPA will be closed November 22nd – 28th for the Thanksgiving holiday. No classes or lessons will take place during this time. All classes and lessons will resume as normal on Monday\, November 29th.
URL:https://dallasacademyofmusic.com/event/closed-for-thanksgiving/
LOCATION:TX
END:VEVENT
BEGIN:VEVENT
DTSTART;VALUE=DATE:20210906
DTEND;VALUE=DATE:20210907
DTSTAMP:20260421T204120
CREATED:20210824T150951Z
LAST-MODIFIED:20210824T150951Z
UID:6011-1630886400-1630972799@dallasacademyofmusic.com
SUMMARY:Closed: Labor Day
DESCRIPTION:Dallas Academy of Music and Performing Arts will be closed on Monday\, September 6th to honor Labor Day. No classes or lessons will take place (neither on-site nor online). All lessons will be resumed as normal on Tuesday\, September 7th.
URL:https://dallasacademyofmusic.com/event/closed-labor-day/
LOCATION:TX
END:VEVENT
BEGIN:VEVENT
DTSTART;VALUE=DATE:20210809
DTEND;VALUE=DATE:20210814
DTSTAMP:20260421T204120
CREATED:20210428T213357Z
LAST-MODIFIED:20210428T213357Z
UID:5749-1628467200-1628899199@dallasacademyofmusic.com
SUMMARY:Voice for Musical Theatre Camp
DESCRIPTION:11:30am – 2:30pm \nAges 10+ \nIf your child loves acting & singing\, then this camp is the perfect fit! Campers will study professional vocal techniques\, theory\, repertoire\, and more! \nDetails and registration here: https://dallasacademyofmusic.com/voice-for-musical-theatre-camp-weeks/
URL:https://dallasacademyofmusic.com/event/voice-for-musical-theatre-camp-3/
LOCATION:TX
ATTACH;FMTTYPE=image/png:https://dallasacademyofmusic.com/wp-content/uploads/2021/04/Voice-for-Musical-Theatre-Cover-Image.png
END:VEVENT
BEGIN:VEVENT
DTSTART;VALUE=DATE:20210809
DTEND;VALUE=DATE:20210814
DTSTAMP:20260421T204120
CREATED:20210428T212708Z
LAST-MODIFIED:20210428T212735Z
UID:5746-1628467200-1628899199@dallasacademyofmusic.com
SUMMARY:Bach Rocks! Beginner Piano Camp
DESCRIPTION:10:30am – 1:30pm \nAges 6+ \nA fun-filled\, 5 day beginner piano camp giving your child the skills they need to begin their journey studying music! Campers will learn fundamental skills such as how to read & listen to music\, proper playing technique\, and much more! \nDetails and registration here: https://dallasacademyofmusic.com/bach-rocks-beginner-piano-camp-weeks/
URL:https://dallasacademyofmusic.com/event/bach-rocks-beginner-piano-camp-4/
LOCATION:TX
ATTACH;FMTTYPE=image/png:https://dallasacademyofmusic.com/wp-content/uploads/2021/04/bach-rocks-cover-yellow.png
END:VEVENT
BEGIN:VEVENT
DTSTART;VALUE=DATE:20210809
DTEND;VALUE=DATE:20210814
DTSTAMP:20260421T204120
CREATED:20210428T212348Z
LAST-MODIFIED:20210428T212348Z
UID:5744-1628467200-1628899199@dallasacademyofmusic.com
SUMMARY:A Cappella Boot Camp
DESCRIPTION:10:00am – 1:00pm \nAges 10+ \nDo you love Pitch Perfect\, Pentatonix\, or The Sing Off? Are you fascinated by harmony vocals\, beatboxing\, or making music with no instruments? Come check out the new A Cappella Boot Camp with Lexie Pritchard! \nDetails here: https://dallasacademyofmusic.com/a-cappella-boot-camp-weeks/
URL:https://dallasacademyofmusic.com/event/a-cappella-boot-camp-2/
LOCATION:TX
ATTACH;FMTTYPE=image/png:https://dallasacademyofmusic.com/wp-content/uploads/2021/04/A-Cappella-Boot-Camp-Cover-Image2-1.png
END:VEVENT
BEGIN:VEVENT
DTSTART;VALUE=DATE:20210726
DTEND;VALUE=DATE:20210731
DTSTAMP:20260421T204120
CREATED:20210428T210721Z
LAST-MODIFIED:20210428T210805Z
UID:5739-1627257600-1627689599@dallasacademyofmusic.com
SUMMARY:Beginner Guitar Camp
DESCRIPTION:11:00am – 2:00pm \nAges 8+ \nBecome a guitar player this summer! Learn basic guitar playing techniques\, how to build chords\, how to play the guitar as an accompaniment instrument\, classical guitar basics\, and so much more! \nDetails and registration here: https://dallasacademyofmusic.com/beginner-guitar-camp-weeks/
URL:https://dallasacademyofmusic.com/event/beginner-guitar-camp-2/
LOCATION:TX
ATTACH;FMTTYPE=image/png:https://dallasacademyofmusic.com/wp-content/uploads/2021/04/Beginner-Guitar-Cover-Image.png
END:VEVENT
BEGIN:VEVENT
DTSTART;VALUE=DATE:20210726
DTEND;VALUE=DATE:20210731
DTSTAMP:20260421T204120
CREATED:20210428T210543Z
LAST-MODIFIED:20210428T213839Z
UID:5737-1627257600-1627689599@dallasacademyofmusic.com
SUMMARY:Bach Rocks! Beginner Piano Camp
DESCRIPTION:10:30am – 1:30pm \nAges 6+ \nA fun-filled\, 5 day camp giving your child the skills they need to begin their journey studying music! Campers will learn fundamental skills such as how to read & listen to music\, proper playing technique\, and much more! \nDetails and registration here: https://dallasacademyofmusic.com/bach-rocks-beginner-piano-camp-weeks/
URL:https://dallasacademyofmusic.com/event/bach-rocks-beginner-piano-camp-3/
LOCATION:TX
ATTACH;FMTTYPE=image/png:https://dallasacademyofmusic.com/wp-content/uploads/2021/04/bach-rocks-cover-yellow.png
END:VEVENT
BEGIN:VEVENT
DTSTART;VALUE=DATE:20210726
DTEND;VALUE=DATE:20210731
DTSTAMP:20260421T204120
CREATED:20210428T163612Z
LAST-MODIFIED:20210428T163612Z
UID:5735-1627257600-1627689599@dallasacademyofmusic.com
SUMMARY:Pop Vocal Boot Camp
DESCRIPTION:10:00am – 1:00pm \nAges 8+ \nHave you ever wanted to learn how to belt? Do you feel your voice could be stronger? Learn the foundations of belting & diaphragmatic support with this fun new pop vocal boot camp! \nDetails and registration here: https://dallasacademyofmusic.com/pop-vocal-boot-camp-weeks/
URL:https://dallasacademyofmusic.com/event/pop-vocal-boot-camp-2/
LOCATION:TX
ATTACH;FMTTYPE=image/png:https://dallasacademyofmusic.com/wp-content/uploads/2021/04/pop-vocal-boot-camp-cover-pink.png
END:VEVENT
BEGIN:VEVENT
DTSTART;VALUE=DATE:20210712
DTEND;VALUE=DATE:20210717
DTSTAMP:20260421T204120
CREATED:20210428T163500Z
LAST-MODIFIED:20210428T163500Z
UID:5733-1626048000-1626479999@dallasacademyofmusic.com
SUMMARY:Voice for Musical Theatre Camp
DESCRIPTION:11:30am – 2:30pm \nAges 10+ \nIf your child loves acting & singing\, then this camp is the perfect fit! Campers will study professional vocal techniques\, theory\, repertoire\, and more! \nDetails and registration here: https://dallasacademyofmusic.com/voice-for-musical-theatre-camp-weeks/
URL:https://dallasacademyofmusic.com/event/voice-for-musical-theatre-camp-2/
LOCATION:TX
ATTACH;FMTTYPE=image/png:https://dallasacademyofmusic.com/wp-content/uploads/2021/04/Voice-for-Musical-Theatre-Cover-Image.png
END:VEVENT
END:VCALENDAR