BEGIN:VCALENDAR
VERSION:2.0
PRODID:-//Dallas Academy of Music &amp; Performing Arts - ECPv6.15.20//NONSGML v1.0//EN
CALSCALE:GREGORIAN
METHOD:PUBLISH
X-WR-CALNAME:Dallas Academy of Music &amp; Performing Arts
X-ORIGINAL-URL:https://dallasacademyofmusic.com
X-WR-CALDESC:Events for Dallas Academy of Music &amp; Performing Arts
REFRESH-INTERVAL;VALUE=DURATION:PT1H
X-Robots-Tag:noindex
X-PUBLISHED-TTL:PT1H
BEGIN:VTIMEZONE
TZID:America/Chicago
BEGIN:DAYLIGHT
TZOFFSETFROM:-0600
TZOFFSETTO:-0500
TZNAME:CDT
DTSTART:20220313T080000
END:DAYLIGHT
BEGIN:STANDARD
TZOFFSETFROM:-0500
TZOFFSETTO:-0600
TZNAME:CST
DTSTART:20221106T070000
END:STANDARD
BEGIN:DAYLIGHT
TZOFFSETFROM:-0600
TZOFFSETTO:-0500
TZNAME:CDT
DTSTART:20230312T080000
END:DAYLIGHT
BEGIN:STANDARD
TZOFFSETFROM:-0500
TZOFFSETTO:-0600
TZNAME:CST
DTSTART:20231105T070000
END:STANDARD
BEGIN:DAYLIGHT
TZOFFSETFROM:-0600
TZOFFSETTO:-0500
TZNAME:CDT
DTSTART:20240310T080000
END:DAYLIGHT
BEGIN:STANDARD
TZOFFSETFROM:-0500
TZOFFSETTO:-0600
TZNAME:CST
DTSTART:20241103T070000
END:STANDARD
BEGIN:DAYLIGHT
TZOFFSETFROM:-0600
TZOFFSETTO:-0500
TZNAME:CDT
DTSTART:20250309T080000
END:DAYLIGHT
BEGIN:STANDARD
TZOFFSETFROM:-0500
TZOFFSETTO:-0600
TZNAME:CST
DTSTART:20251102T070000
END:STANDARD
END:VTIMEZONE
BEGIN:VEVENT
DTSTART;VALUE=DATE:20231222
DTEND;VALUE=DATE:20240103
DTSTAMP:20260421T190838
CREATED:20230828T182610Z
LAST-MODIFIED:20230828T182610Z
UID:8866-1703203200-1704239999@dallasacademyofmusic.com
SUMMARY:Winter Break Closure
DESCRIPTION:DAMPA will be closed for Winter Break from Friday\, December 22nd – Tuesday\, January 2nd. No lessons will take place during this closure. Lessons will resume as normal on Wednesday\, January 3rd. We hope everyone has a wonderful Winter Break and very happy holidays!
URL:https://dallasacademyofmusic.com/event/winter-break-closure/
LOCATION:TX
END:VEVENT
END:VCALENDAR